BEGIN:VCALENDAR
VERSION:2.0
PRODID:-//hacksw/handcal//NONSGML v1.0//EN
BEGIN:VEVENT
UID:5397
DTSTART;VALUE=DATE:20160102
URL;VALUE=URI:ohschonhell.at/?page_id=9915
SUMMARY:POST-POST.hangover.mode.mode.der.klub.
LOCATION:ELEKTRO GÖNNER
END:VEVENT
END:VCALENDAR


