BEGIN:VCALENDAR
VERSION:2.0
PRODID:-//hacksw/handcal//NONSGML v1.0//EN
BEGIN:VEVENT
UID:5405
DTSTART;VALUE=DATE:20160122
URL;VALUE=URI:ohschonhell.at/?page_id=9931
SUMMARY:Spritzwein Sessions w/ Medlar (Wolf Music\, London/UK)
LOCATION:SASS
END:VEVENT
END:VCALENDAR


