BEGIN:VCALENDAR
VERSION:2.0
PRODID:-//hacksw/handcal//NONSGML v1.0//EN
BEGIN:VEVENT
UID:5422
DTSTART;VALUE=DATE:20160206
URL;VALUE=URI:ohschonhell.at/?page_id=9965
SUMMARY:SYMPHONIX live &amp\; DJ SET presented by Together Trance Project
LOCATION:AUSLAGE
END:VEVENT
END:VCALENDAR


