BEGIN:VCALENDAR
VERSION:2.0
PRODID:-//hacksw/handcal//NONSGML v1.0//EN
BEGIN:VEVENT
UID:5432
DTSTART;VALUE=DATE:20160123
URL;VALUE=URI:ohschonhell.at/?page_id=9985
SUMMARY:HEUTE: RUDIMENTAL &amp\; friends // presented by BLACK BUTTER RECORDS
LOCATION:Marx Project
END:VEVENT
END:VCALENDAR


