BEGIN:VCALENDAR
VERSION:2.0
PRODID:-//hacksw/handcal//NONSGML v1.0//EN
BEGIN:VEVENT
UID:5473
DTSTART;VALUE=DATE:20160105
URL;VALUE=URI:ohschonhell.at/?page_id=10067
SUMMARY:MARX PROJECT pres. TUBE &amp\; BERGER
LOCATION:Marx Project
END:VEVENT
END:VCALENDAR


