BEGIN:VCALENDAR
VERSION:2.0
PRODID:-//hacksw/handcal//NONSGML v1.0//EN
BEGIN:VEVENT
UID:5495
DTSTART;VALUE=DATE:20160115
URL;VALUE=URI:ohschonhell.at/?page_id=10115
SUMMARY:Entkunstung
LOCATION:ELEKTRO GÖNNER
END:VEVENT
END:VCALENDAR


