BEGIN:VCALENDAR
VERSION:2.0
PRODID:-//hacksw/handcal//NONSGML v1.0//EN
BEGIN:VEVENT
UID:5496
DTSTART;VALUE=DATE:20160114
URL;VALUE=URI:ohschonhell.at/?page_id=10117
SUMMARY:opaque mit giorio
LOCATION:ELEKTRO GÖNNER
END:VEVENT
END:VCALENDAR


