BEGIN:VCALENDAR
VERSION:2.0
PRODID:-//hacksw/handcal//NONSGML v1.0//EN
BEGIN:VEVENT
UID:5498
DTSTART;VALUE=DATE:20160114
URL;VALUE=URI:ohschonhell.at/?page_id=10122
SUMMARY:Beat It
LOCATION:FLEX
END:VEVENT
END:VCALENDAR


