BEGIN:VCALENDAR
VERSION:2.0
PRODID:-//hacksw/handcal//NONSGML v1.0//EN
BEGIN:VEVENT
UID:5505
DTSTART;VALUE=DATE:20160206
URL;VALUE=URI:ohschonhell.at/?page_id=10139
SUMMARY:Friends of Fairlight Club
LOCATION:CAFE LEOPOLD
END:VEVENT
END:VCALENDAR


