BEGIN:VCALENDAR
VERSION:2.0
PRODID:-//hacksw/handcal//NONSGML v1.0//EN
BEGIN:VEVENT
UID:5514
DTSTART;VALUE=DATE:20160227
URL;VALUE=URI:ohschonhell.at/?page_id=10157
SUMMARY:RAM VIENNA w/ ANDY C\, WILKINSON &amp\; SUPPORT
LOCATION:Marx Project
END:VEVENT
END:VCALENDAR


