BEGIN:VCALENDAR
VERSION:2.0
PRODID:-//hacksw/handcal//NONSGML v1.0//EN
BEGIN:VEVENT
UID:5536
DTSTART;VALUE=DATE:20160122
URL;VALUE=URI:ohschonhell.at/?page_id=10201
SUMMARY:StadtLandFluss @ Elektro Gönner
LOCATION:ELEKTRO GÖNNER
END:VEVENT
END:VCALENDAR


