BEGIN:VCALENDAR
VERSION:2.0
PRODID:-//hacksw/handcal//NONSGML v1.0//EN
BEGIN:VEVENT
UID:5541
DTSTART;VALUE=DATE:20160121
URL;VALUE=URI:ohschonhell.at/?page_id=10211
SUMMARY:ELEKTRAE feat. BERT BRICHT
LOCATION:ELEKTRO GÖNNER
END:VEVENT
END:VCALENDAR


