BEGIN:VCALENDAR
VERSION:2.0
PRODID:-//hacksw/handcal//NONSGML v1.0//EN
BEGIN:VEVENT
UID:5545
DTSTART;VALUE=DATE:20160213
URL;VALUE=URI:ohschonhell.at/?page_id=10219
SUMMARY:Laissez-Faire // Year One
LOCATION:DUAL
END:VEVENT
END:VCALENDAR


