BEGIN:VCALENDAR
VERSION:2.0
PRODID:-//hacksw/handcal//NONSGML v1.0//EN
BEGIN:VEVENT
UID:5547
DTSTART;VALUE=DATE:20160210
URL;VALUE=URI:ohschonhell.at/?page_id=10223
SUMMARY:Bianca &amp\; Andi Fettkakao DJ Night
LOCATION:ELEKTRO GÖNNER
END:VEVENT
END:VCALENDAR


