BEGIN:VCALENDAR
VERSION:2.0
PRODID:-//hacksw/handcal//NONSGML v1.0//EN
BEGIN:VEVENT
UID:5557
DTSTART;VALUE=DATE:20160124
URL;VALUE=URI:ohschonhell.at/?page_id=10243
SUMMARY:Red Medved Weihnachtsfeier Und Geburtstag Wirtshaus Zum Roten Bären
LOCATION:ELEKTRO GÖNNER
END:VEVENT
END:VCALENDAR


