BEGIN:VCALENDAR
VERSION:2.0
PRODID:-//hacksw/handcal//NONSGML v1.0//EN
BEGIN:VEVENT
UID:5562
DTSTART;VALUE=DATE:20160126
URL;VALUE=URI:ohschonhell.at/?page_id=10251
SUMMARY:ELeKTro göNNer aLL bARS #11 w/ RUFUS &amp\; FABIANO JOSÉ
LOCATION:ELEKTRO GÖNNER
END:VEVENT
END:VCALENDAR


