BEGIN:VCALENDAR
VERSION:2.0
PRODID:-//hacksw/handcal//NONSGML v1.0//EN
BEGIN:VEVENT
UID:5587
DTSTART;VALUE=DATE:20160212
URL;VALUE=URI:ohschonhell.at/?page_id=10310
SUMMARY:SUPERDISKO - THE TECHNO NIGHT
LOCATION:ELEKTRO GÖNNER
END:VEVENT
END:VCALENDAR


