BEGIN:VCALENDAR
VERSION:2.0
PRODID:-//hacksw/handcal//NONSGML v1.0//EN
BEGIN:VEVENT
UID:5659
DTSTART;VALUE=DATE:20160312
URL;VALUE=URI:ohschonhell.at/?page_id=10461
SUMMARY:FAirys\, UniCorNs &amp\; FreAKs pres. RADIO PROD. with Freedom B\, Giannis Coroneos &amp\; Miss dicA
LOCATION:RADIO - THE LABEL BAR
END:VEVENT
END:VCALENDAR


