BEGIN:VCALENDAR
VERSION:2.0
PRODID:-//hacksw/handcal//NONSGML v1.0//EN
BEGIN:VEVENT
UID:5663
DTSTART;VALUE=DATE:20160304
URL;VALUE=URI:ohschonhell.at/?page_id=10469
SUMMARY:04/03 - VOLLKONTAKT Classics &amp\; Oldschool Night (strictly vinyl!)
LOCATION:FLUCC
END:VEVENT
END:VCALENDAR


