BEGIN:VCALENDAR
VERSION:2.0
PRODID:-//hacksw/handcal//NONSGML v1.0//EN
BEGIN:VEVENT
UID:5668
DTSTART;VALUE=DATE:20160220
URL;VALUE=URI:ohschonhell.at/?page_id=10479
SUMMARY:Salon Gold &amp\; Essential | Dachshund [clapper\, 8bit\, gruuv /CH]
LOCATION:SASS
END:VEVENT
END:VCALENDAR


