BEGIN:VCALENDAR
VERSION:2.0
PRODID:-//hacksw/handcal//NONSGML v1.0//EN
BEGIN:VEVENT
UID:5671
DTSTART;VALUE=DATE:20160219
URL;VALUE=URI:ohschonhell.at/?page_id=10485
SUMMARY:Fairys\, Unicorns &amp\; Freaks mit Joro\, Peter Pan &amp\; Paul Noire
LOCATION:RADIO - THE LABEL BAR
END:VEVENT
END:VCALENDAR


