BEGIN:VCALENDAR
VERSION:2.0
PRODID:-//hacksw/handcal//NONSGML v1.0//EN
BEGIN:VEVENT
UID:5680
DTSTART;VALUE=DATE:20160211
URL;VALUE=URI:ohschonhell.at/?page_id=10503
SUMMARY:Drum and Bass Night by kaffee.schwarz (Vienna)
LOCATION:RADIO - THE LABEL BAR
END:VEVENT
END:VCALENDAR


