BEGIN:VCALENDAR
VERSION:2.0
PRODID:-//hacksw/handcal//NONSGML v1.0//EN
BEGIN:VEVENT
UID:5685
DTSTART;VALUE=DATE:20160213
URL;VALUE=URI:ohschonhell.at/?page_id=10515
SUMMARY:DISCO FRISCO 100% Vinyl!
LOCATION:SCHIKANEDER
END:VEVENT
END:VCALENDAR


