BEGIN:VCALENDAR
VERSION:2.0
PRODID:-//hacksw/handcal//NONSGML v1.0//EN
BEGIN:VEVENT
UID:5686
DTSTART;VALUE=DATE:20160212
URL;VALUE=URI:ohschonhell.at/?page_id=10517
SUMMARY:Deep Affair &quot\;Special&quot\; with RTCT || presented by MUSICAL COLLECTIVE
LOCATION:DUAL
END:VEVENT
END:VCALENDAR


