BEGIN:VCALENDAR
VERSION:2.0
PRODID:-//hacksw/handcal//NONSGML v1.0//EN
BEGIN:VEVENT
UID:569
DTSTART;VALUE=DATE:20140123
URL;VALUE=URI:ohschonhell.at/?page_id=3024
SUMMARY:# F L A V A #    DANNY LA VEGA  x  KAPAZUNDA  x  KY:ZE x JULIUS LP
LOCATION:ROXY CLUB
END:VEVENT
END:VCALENDAR


