BEGIN:VCALENDAR
VERSION:2.0
PRODID:-//hacksw/handcal//NONSGML v1.0//EN
BEGIN:VEVENT
UID:5696
DTSTART;VALUE=DATE:20160219
URL;VALUE=URI:ohschonhell.at/?page_id=10539
SUMMARY:AFRO-CLUB-NIGHT @ SARGFABRIK VIENNA 20.00 h  // hosted by Clubcruisemusic\, MAX\, EVI &amp\; FRANZ
LOCATION:Sargfabrik
END:VEVENT
END:VCALENDAR


