BEGIN:VCALENDAR
VERSION:2.0
PRODID:-//hacksw/handcal//NONSGML v1.0//EN
BEGIN:VEVENT
UID:5700
DTSTART;VALUE=DATE:20160507
URL;VALUE=URI:ohschonhell.at/?page_id=10549
SUMMARY:MAINFRAME RECORDINGS LIVE pres. Ed Rush &amp\; Optical - TC and many more
LOCATION:ARENA
END:VEVENT
END:VCALENDAR


