BEGIN:VCALENDAR
VERSION:2.0
PRODID:-//hacksw/handcal//NONSGML v1.0//EN
BEGIN:VEVENT
UID:5701
DTSTART;VALUE=DATE:20160501
URL;VALUE=URI:ohschonhell.at/?page_id=10551
SUMMARY:1.mai free open air 2016
LOCATION:VIENNA CITY BEACH CLUB
END:VEVENT
END:VCALENDAR


