BEGIN:VCALENDAR
VERSION:2.0
PRODID:-//hacksw/handcal//NONSGML v1.0//EN
BEGIN:VEVENT
UID:5705
DTSTART;VALUE=DATE:20160312
URL;VALUE=URI:ohschonhell.at/?page_id=10561
SUMMARY:COMING HOME #2 /w Richard Dorfmeister\, Megablast\, Gü - Mix uvm.
LOCATION:ROTE BAR
END:VEVENT
END:VCALENDAR


