BEGIN:VCALENDAR
VERSION:2.0
PRODID:-//hacksw/handcal//NONSGML v1.0//EN
BEGIN:VEVENT
UID:5714
DTSTART;VALUE=DATE:20160304
URL;VALUE=URI:ohschonhell.at/?page_id=10579
SUMMARY:MARX PROJECT pres. NERO
LOCATION:Marx Project
END:VEVENT
END:VCALENDAR


