BEGIN:VCALENDAR
VERSION:2.0
PRODID:-//hacksw/handcal//NONSGML v1.0//EN
BEGIN:VEVENT
UID:5726
DTSTART;VALUE=DATE:20160218
URL;VALUE=URI:ohschonhell.at/?page_id=10603
SUMMARY:ELeKTro göNNer aLL bARS x 1989
LOCATION:ELEKTRO GÖNNER
END:VEVENT
END:VCALENDAR


