BEGIN:VCALENDAR
VERSION:2.0
PRODID:-//hacksw/handcal//NONSGML v1.0//EN
BEGIN:VEVENT
UID:5730
DTSTART;VALUE=DATE:20160218
URL;VALUE=URI:ohschonhell.at/?page_id=10611
SUMMARY:Donnerstag Nacht im Februar
LOCATION:SASS
END:VEVENT
END:VCALENDAR


