BEGIN:VCALENDAR
VERSION:2.0
PRODID:-//hacksw/handcal//NONSGML v1.0//EN
BEGIN:VEVENT
UID:5746
DTSTART;VALUE=DATE:20160305
URL;VALUE=URI:ohschonhell.at/?page_id=10647
SUMMARY:Festivalparty // Tricky Women 2016
LOCATION:ELEKTRO GÖNNER
END:VEVENT
END:VCALENDAR


