BEGIN:VCALENDAR
VERSION:2.0
PRODID:-//hacksw/handcal//NONSGML v1.0//EN
BEGIN:VEVENT
UID:5766
DTSTART;VALUE=DATE:20160227
URL;VALUE=URI:ohschonhell.at/?page_id=10692
SUMMARY:MENTAL ILLNESS - dirty sound therapy
LOCATION:OPERA CLUB
END:VEVENT
END:VCALENDAR


