BEGIN:VCALENDAR
VERSION:2.0
PRODID:-//hacksw/handcal//NONSGML v1.0//EN
BEGIN:VEVENT
UID:577
DTSTART;VALUE=DATE:20140125
URL;VALUE=URI:ohschonhell.at/?page_id=3032
SUMMARY:SALON MARIA
LOCATION:OBEN
END:VEVENT
END:VCALENDAR


