BEGIN:VCALENDAR
VERSION:2.0
PRODID:-//hacksw/handcal//NONSGML v1.0//EN
BEGIN:VEVENT
UID:5778
DTSTART;VALUE=DATE:20160310
URL;VALUE=URI:ohschonhell.at/?page_id=10720
SUMMARY:ELEKTRAE feat. NEOMODERN &amp\; TAMARA DINKA
LOCATION:ELEKTRO GÖNNER
END:VEVENT
END:VCALENDAR


