BEGIN:VCALENDAR
VERSION:2.0
PRODID:-//hacksw/handcal//NONSGML v1.0//EN
BEGIN:VEVENT
UID:5795
DTSTART;VALUE=DATE:20160401
URL;VALUE=URI:ohschonhell.at/?page_id=10756
SUMMARY:Superfly Birthday Clubnight 2016
LOCATION:OTTAKRINGER BRAUEREI
END:VEVENT
END:VCALENDAR


