BEGIN:VCALENDAR
VERSION:2.0
PRODID:-//hacksw/handcal//NONSGML v1.0//EN
BEGIN:VEVENT
UID:5828
DTSTART;VALUE=DATE:20160327
URL;VALUE=URI:ohschonhell.at/?page_id=10828
SUMMARY:SCHWARZER KANAL (feat. SEDVS)
LOCATION:ELEKTRO GÖNNER
END:VEVENT
END:VCALENDAR


