BEGIN:VCALENDAR
VERSION:2.0
PRODID:-//hacksw/handcal//NONSGML v1.0//EN
BEGIN:VEVENT
UID:5829
DTSTART;VALUE=DATE:20160325
URL;VALUE=URI:ohschonhell.at/?page_id=10832
SUMMARY:Spritzwein Sessions w/ Phil Weeks (Robsoul Rec.\, Paris)
LOCATION:SASS
END:VEVENT
END:VCALENDAR


