BEGIN:VCALENDAR
VERSION:2.0
PRODID:-//hacksw/handcal//NONSGML v1.0//EN
BEGIN:VEVENT
UID:5831
DTSTART;VALUE=DATE:20160318
URL;VALUE=URI:ohschonhell.at/?page_id=10836
SUMMARY:DIRTY SUPER SWEET 16 mit MEGABLAST und Andreas Weisz
LOCATION:SASS
END:VEVENT
END:VCALENDAR


