BEGIN:VCALENDAR
VERSION:2.0
PRODID:-//hacksw/handcal//NONSGML v1.0//EN
BEGIN:VEVENT
UID:5832
DTSTART;VALUE=DATE:20160318
URL;VALUE=URI:ohschonhell.at/?page_id=10838
SUMMARY:Opus 3 No.1
LOCATION:OPERA CLUB
END:VEVENT
END:VCALENDAR


