BEGIN:VCALENDAR
VERSION:2.0
PRODID:-//hacksw/handcal//NONSGML v1.0//EN
BEGIN:VEVENT
UID:5836
DTSTART;VALUE=DATE:20160312
URL;VALUE=URI:ohschonhell.at/?page_id=10846
SUMMARY:10 jahre slobberclub!
LOCATION:ELEKTRO GÖNNER
END:VEVENT
END:VCALENDAR


