BEGIN:VCALENDAR
VERSION:2.0
PRODID:-//hacksw/handcal//NONSGML v1.0//EN
BEGIN:VEVENT
UID:5840
DTSTART;VALUE=DATE:20160309
URL;VALUE=URI:ohschonhell.at/?page_id=10854
SUMMARY:Mc Rhine &amp\; Andi Fettkakao DJ Night
LOCATION:ELEKTRO GÖNNER
END:VEVENT
END:VCALENDAR


