BEGIN:VCALENDAR
VERSION:2.0
PRODID:-//hacksw/handcal//NONSGML v1.0//EN
BEGIN:VEVENT
UID:5845
DTSTART;VALUE=DATE:20160504
URL;VALUE=URI:ohschonhell.at/?page_id=10864
SUMMARY:OCULUS ••• C³ - See Free
LOCATION:Sargfabrik
END:VEVENT
END:VCALENDAR


