BEGIN:VCALENDAR
VERSION:2.0
PRODID:-//hacksw/handcal//NONSGML v1.0//EN
BEGIN:VEVENT
UID:5849
DTSTART;VALUE=DATE:20160416
URL;VALUE=URI:ohschonhell.at/?page_id=10872
SUMMARY:SOUND:FRAME «TEN» x AV LIVE PERFORMANCES x brut II
LOCATION:BRUT
END:VEVENT
END:VCALENDAR


