BEGIN:VCALENDAR
VERSION:2.0
PRODID:-//hacksw/handcal//NONSGML v1.0//EN
BEGIN:VEVENT
UID:5868
DTSTART;VALUE=DATE:20160317
URL;VALUE=URI:ohschonhell.at/?page_id=10912
SUMMARY:Elektro-STAMMTISCH || 8.0
LOCATION:RADIO - THE LABEL BAR
END:VEVENT
END:VCALENDAR


