BEGIN:VCALENDAR
VERSION:2.0
PRODID:-//hacksw/handcal//NONSGML v1.0//EN
BEGIN:VEVENT
UID:587
DTSTART;VALUE=DATE:20140208
URL;VALUE=URI:ohschonhell.at/?page_id=3044
SUMMARY:PROGRESSIVE SELECTION pres. CIMI &amp\; M-THEORY live
LOCATION:CAMERA CLUB
END:VEVENT
END:VCALENDAR


