BEGIN:VCALENDAR
VERSION:2.0
PRODID:-//hacksw/handcal//NONSGML v1.0//EN
BEGIN:VEVENT
UID:5874
DTSTART;VALUE=DATE:20160312
URL;VALUE=URI:ohschonhell.at/?page_id=10924
SUMMARY:Roadmusic
LOCATION:SCHIKANEDER
END:VEVENT
END:VCALENDAR


