BEGIN:VCALENDAR
VERSION:2.0
PRODID:-//hacksw/handcal//NONSGML v1.0//EN
BEGIN:VEVENT
UID:5888
DTSTART;VALUE=DATE:20160324
URL;VALUE=URI:ohschonhell.at/?page_id=10960
SUMMARY:GÄSTELISTE - ELECTROBOOT: Captain&#039\;s Lounge im SASS
LOCATION:SASS
END:VEVENT
END:VCALENDAR


