BEGIN:VCALENDAR
VERSION:2.0
PRODID:-//hacksw/handcal//NONSGML v1.0//EN
BEGIN:VEVENT
UID:5892
DTSTART;VALUE=DATE:20160325
URL;VALUE=URI:ohschonhell.at/?page_id=10968
SUMMARY:Alles wird Gut. mit Enzo Siffredi
LOCATION:GRELLE FORELLE
END:VEVENT
END:VCALENDAR


